BEGIN:VCALENDAR
VERSION:2.0
PRODID:-//PYVOBJECT//NONSGML Version 1//EN
BEGIN:VEVENT
UID:20968:2376
DTSTART:20140605T000000
DTEND:20141231T000000
DESCRIPTION:
DTSTAMP:20260424T033516Z
SUMMARY:Das Ausflugserlebnis der besonderen Art
END:VEVENT
END:VCALENDAR
